BEGIN:VCALENDAR
VERSION:2.0
PRODID:-//OneArtyMinute//Calendar Export//FR
CALSCALE:GREGORIAN
METHOD:PUBLISH
BEGIN:VEVENT
UID:finissage-15735@oneartyminute.com
DTSTAMP:20260420T042704Z
DTSTART:20260503T150000Z
DTEND:20260503T170000Z
SUMMARY:Avril 2026 à la Galerie d’Art Wilson\\, Blois  - Finissage
LOCATION:Galerie d'Art Wilson\\, 23\\, Avenue du Président Wilson \\, 41000 BLOIS\\
 , FR
DESCRIPTION:Avril 2026 à la Galerie d’Art Wilson\\, Blois&nbsp\\;&nbsp\\;Exposition&nb
 sp\\;:&nbsp\\;Du 2 Avril au 3 Mai 2026\\, la Galerie d’Art Wilson\\, 23\\
 , avenue du Président Wilson à Blois\\, présente une exposition collectiv
 e réunissant six artistes contemporains récemment intégrés à la galerie s
 ix artistes contemporains\\,&nbsp\\;Vous pourrez découvrir les œuvres de&
 nbsp\\;:&nbsp\\;Céléa\\, peintre tourangelleElodie Ferré\\,&nbsp\\;peintr
 e\\, illustratrice ligérienneJosé Bachir\\, photographePascal Pasro\\, pe
 int...
URL:https://oneartyminute.com/expositions/avril-2026-la-galerie-dart-wilson-blois
STATUS:CONFIRMED
BEGIN:VALARM
TRIGGER:-PT1H
DESCRIPTION:Rappel : événement dans 1 heure
ACTION:DISPLAY
END:VALARM
END:VEVENT
END:VCALENDAR
