BEGIN:VCALENDAR
VERSION:2.0
PRODID:-//OneArtyMinute//Calendar Export//FR
CALSCALE:GREGORIAN
METHOD:PUBLISH
BEGIN:VEVENT
UID:finissage-15736@oneartyminute.com
DTSTAMP:20260422T195622Z
DTSTART:20260628T100000Z
DTEND:20260628T120000Z
SUMMARY:Calendar - Finissage
LOCATION:Casa de Cultura do Parque\\, Av. Prof. Fonseca Rodrigues\\, 1300 – Alto de
  Pinheiros\\, 05461-010 São Paulo\\, BR
DESCRIPTION:Casa de Cultura do Parque presents\\, from&nbsp\\;March 28 to June 28\\, 2
 026\\, the exhibition&nbsp\\;“Calendário”&nbsp\\;[Calendar] by&nbsp\\;Fel
 ipe Rezende\\, as part of its&nbsp\\;I Exhibition Cycle. Installed in Pro
 ject 280X1020\\, the show is curated by&nbsp\\;Claudio Cretti\\, the inst
 itution’s artistic director\\, with a text by Guilherme Teixeira.&nbsp\\;
 Felipe Rezende&nbsp\\;(Salvador\\, 1994) uses techniques such as patchwor
 k to construct an imaginary world around labor. The method used to repair
  truck tar...
URL:https://oneartyminute.com/expositions/calendar
STATUS:CONFIRMED
BEGIN:VALARM
TRIGGER:-PT1H
DESCRIPTION:Rappel : événement dans 1 heure
ACTION:DISPLAY
END:VALARM
END:VEVENT
END:VCALENDAR
