BEGIN:VCALENDAR
VERSION:2.0
PRODID:-//OneArtyMinute//Calendar Export//FR
CALSCALE:GREGORIAN
METHOD:PUBLISH
BEGIN:VEVENT
UID:finissage-15790@oneartyminute.com
DTSTAMP:20260422T195007Z
DTSTART:20260425T120000Z
DTEND:20260425T140000Z
SUMMARY:Plants & People - Finissage
LOCATION:Frac des Pays de la Loire\\, 24 bis Boulevard Ampère\\, La Fleuriaye\\, 44
 470 Carquefou\\, FR
DESCRIPTION:Plants and People met en dialogue des œuvres issues des collections respec
 tives du Frac des Pays de la Loire et du musée d’arts de Nantes\\, photog
 raphies\\, dessins\\, sculptures\\, peintures\\, d’époques et d’artistes 
 différents (Max Ernst\\, Giuseppe Penone\\, Gina Pane\\, Jean-Baptiste Ga
 nne\\, Elina Brotherus…).&nbsp\\;Ce croisement de regards sonde les notio
 ns de conservation et de préservation\\, fondamentales aux musées\\, en s
 ’appuyant sur la métaphore du végétal. Ce fil conducteur trouve...
URL:https://oneartyminute.com/expositions/plants-people
STATUS:CONFIRMED
BEGIN:VALARM
TRIGGER:-PT1H
DESCRIPTION:Rappel : événement dans 1 heure
ACTION:DISPLAY
END:VALARM
END:VEVENT
END:VCALENDAR
