BEGIN:VCALENDAR
VERSION:2.0
PRODID:-//OneArtyMinute//Calendar Export//FR
CALSCALE:GREGORIAN
METHOD:PUBLISH
BEGIN:VEVENT
UID:vernissage-15011@oneartyminute.com
DTSTAMP:20260422T210536Z
DTSTART:20260529T140000Z
DTEND:20260529T160000Z
SUMMARY:THIERRY LE SAËC - Vernissage
LOCATION:Espace Lucien Prigent\\,  Rue du Manoir\\, 29400 Landivisiau\\, FR
DESCRIPTION:« Chercher\\, creuser.Depuis des années la source principale de mon travai
 l est le regard que je porte sur ce qui m'entoure et plus particulièremen
 t sur les paysages dans le sens le plus large possible\\, pas tant dans u
 ne représentation « figurative » mais sensible\\, dans un dialogue intéri
 eur. Je ne cherche pas à reproduire mais à en extraire la couleur\\, la l
 umière et l'émotion suscitées. En exergue\\, une réflexion du peintre Jam
 es Guitet (1925-2010) : « Quand je peins\\, j'oublie le ...
URL:https://oneartyminute.com/expositions/thierry-le-saec
STATUS:CONFIRMED
BEGIN:VALARM
TRIGGER:-PT1H
DESCRIPTION:Rappel : événement dans 1 heure
ACTION:DISPLAY
END:VALARM
END:VEVENT
END:VCALENDAR
