BEGIN:VCALENDAR
VERSION:2.0
PRODID:-//OneArtyMinute//Calendar Export//FR
CALSCALE:GREGORIAN
METHOD:PUBLISH
BEGIN:VEVENT
UID:vernissage-15636@oneartyminute.com
DTSTAMP:20260422T195734Z
DTSTART:20260423T143000Z
DTEND:20260423T163000Z
SUMMARY:Playground - Vernissage
LOCATION:Make Ici\\, 135 Boulevard Chanzy \\, 93100 Montreuil\\, FR
DESCRIPTION:PLAYGROUNDExposition immersive – Duo d’artistes : Amande Noyée et Flavia S
 ueng&nbsp\\;Entrer dans PLAYGROUND\\, c’est faire l’expérience d’un nouve
 l univers où la couleur devient espace et le jeu\\, un langage.&nbsp\\;Ce
  n’est plus seulement regarder des œuvres\\, c’est traverser un paysage.&
 nbsp\\;&nbsp\\;La couleur quitte le mur : elle s’étend\\, se suspend\\, f
 lotte dans l’espace. Collages\\, surfaces peintes et formes textiles colo
 rées dialoguent entre elles. Des volumes descendent du...
URL:https://oneartyminute.com/expositions/playground
STATUS:CONFIRMED
BEGIN:VALARM
TRIGGER:-PT1H
DESCRIPTION:Rappel : événement dans 1 heure
ACTION:DISPLAY
END:VALARM
END:VEVENT
END:VCALENDAR
