BEGIN:VCALENDAR
VERSION:2.0
PRODID:-//OneArtyMinute//Calendar Export//FR
CALSCALE:GREGORIAN
METHOD:PUBLISH
BEGIN:VEVENT
UID:vernissage-15648@oneartyminute.com
DTSTAMP:20260422T195729Z
DTSTART:20280331T170000Z
DTEND:20280331T190000Z
SUMMARY:Georg Jensen à Paris | Le refuge d’un maître artisan - Vernissage
LOCATION:La Maison du Danemark\\, 142 Avenue des Champs-Elysées\\, 75008 Paris\\, F
 R
DESCRIPTION:La Maison du Danemark présente\\, du 1er avril au 31 mai 2026\\, l’exposit
 ion Georg Jensen à Paris | Le refuge d’un maître artisan\\, consacrée à l
 ’un des orfèvres les plus influents du XXe siècle et figure majeure du de
 sign scandinave. À l’occasion du centenaire de la période parisienne du m
 aître danois\\, cette exposition inédite met en lumière un chapitre essen
 tiel\\, mais encore méconnu\\, de sa carrière : les deux années qu’il pas
 se à Paris\\, de 1924 à 1926.&nbsp\\;Figure rec...
URL:https://oneartyminute.com/expositions/georg-jensen-paris-le-refuge-dun-maitre-artisan
STATUS:CONFIRMED
BEGIN:VALARM
TRIGGER:-PT1H
DESCRIPTION:Rappel : événement dans 1 heure
ACTION:DISPLAY
END:VALARM
END:VEVENT
END:VCALENDAR
