BEGIN:VCALENDAR
VERSION:2.0
PRODID:-//OneArtyMinute//Calendar Export//FR
CALSCALE:GREGORIAN
METHOD:PUBLISH
BEGIN:VEVENT
UID:vernissage-15664@oneartyminute.com
DTSTAMP:20260422T195445Z
DTSTART:20260523T070000Z
DTEND:20260523T090000Z
SUMMARY:Les Filles du Calvaire : 30 ans et plus - Vernissage
LOCATION:Les filles du Calvaire \\, 21 rue Chapon\\, 75003 Paris\\, FR
DESCRIPTION:La galerie célèbre du 23 mai au 20 juin\\, plus de trente années d’engagem
 ent au service de la création contemporaine. Pour autant\\, il ne s’agit 
 pas ici de revenir sur un parcours accompli\\, mais d’affirmer une contin
 uité vivante. 30 ans et plus n’est pas une rétrospective. C’est une décla
 ration d’intention\\, celle d’une galerie qui cultive sa raison d’être : 
 accompagner les artistes et valoriser les pratiques artistiques actuelles
 .&nbsp\\;À travers une œuvre par artiste\\, ...
URL:https://oneartyminute.com/expositions/les-filles-du-calvaire-30-ans-et-plus
STATUS:CONFIRMED
BEGIN:VALARM
TRIGGER:-PT1H
DESCRIPTION:Rappel : événement dans 1 heure
ACTION:DISPLAY
END:VALARM
END:VEVENT
END:VCALENDAR
