BEGIN:VCALENDAR
VERSION:2.0
PRODID:-//OneArtyMinute//Calendar Export//FR
CALSCALE:GREGORIAN
METHOD:PUBLISH
BEGIN:VEVENT
UID:vernissage-15720@oneartyminute.com
DTSTAMP:20260422T211636Z
DTSTART:20260430T143000Z
DTEND:20260430T163000Z
SUMMARY:Uwe Wittwer. Avant que le verre ne cède - Vernissage
LOCATION:Musée Jenisch Vevey\\, Avenue de la Gare 2\\, 1800 Vevey\\, CH
DESCRIPTION:Avant que le verre ne cède est la première exposition monographique en Sui
 sse romande consacrée à l’artiste contemporain zurichois Uwe Wittwer (*19
 54). L’accrochage présentera des aquarelles monumentales tout en mettant 
 en avant certaines séries emblématiques.&nbsp\\;&nbsp\\;Fasciné par les m
 écanismes de la perception du réel\\, du souvenir et de la mémoire\\, l’a
 rtiste zurichois Uwe Wittwer (*1954 ) développe sa démarche artistique su
 r de subtils jeux de composition et de déforma...
URL:https://oneartyminute.com/expositions/uwe-wittwer-avant-que-le-verre-ne-cede
STATUS:CONFIRMED
BEGIN:VALARM
TRIGGER:-PT1H
DESCRIPTION:Rappel : événement dans 1 heure
ACTION:DISPLAY
END:VALARM
END:VEVENT
END:VCALENDAR
