BEGIN:VCALENDAR
VERSION:2.0
PRODID:-//OneArtyMinute//Calendar Export//FR
CALSCALE:GREGORIAN
METHOD:PUBLISH
BEGIN:VEVENT
UID:vernissage-15721@oneartyminute.com
DTSTAMP:20260422T195729Z
DTSTART:20260430T143000Z
DTEND:20260430T163000Z
SUMMARY:Frédéric Cordier. Mécanique du paysage - Vernissage
LOCATION:Musée Jenisch Vevey\\, Avenue de la Gare 2\\, 1800 Vevey\\, CH
DESCRIPTION:Dans son Åuvre graveÌ\\, lâartiste canado-suisse FreÌdeÌric Cordier 
 (*1985)&nbsp\\;explore les transformations du paysage sous lâeffet de l
 âactiviteÌ humaine. Ses panoramas\\, concÌ§us comme des Â« caprices co
 ntemporains Â»\\, remplacent les ruines romantiques par des gratte-ciel\\
 , des infrastructures et des baÌtiments industriels. Leur monumentaliteÌ
  et leur preÌcision traduisent une fascination critique pour lâempris
 e des structures humaines sur la nature.Son vocabulaire graphique â...
URL:https://oneartyminute.com/expositions/frederic-cordier-mecanique-du-paysage
STATUS:CONFIRMED
BEGIN:VALARM
TRIGGER:-PT1H
DESCRIPTION:Rappel : événement dans 1 heure
ACTION:DISPLAY
END:VALARM
END:VEVENT
END:VCALENDAR
