BEGIN:VCALENDAR
VERSION:2.0
PRODID:-//OneArtyMinute//Calendar Export//FR
CALSCALE:GREGORIAN
METHOD:PUBLISH
BEGIN:VEVENT
UID:vernissage-15722@oneartyminute.com
DTSTAMP:20260422T195622Z
DTSTART:20260430T143000Z
DTEND:20260430T163000Z
SUMMARY:L'odyssée de Kokoschka - Vernissage
LOCATION:Musée Jenisch Vevey\\, Avenue de la Gare 2\\, 1800 Vevey\\, CH
DESCRIPTION:Oskar Kokoschka (1886–1980) consacre une part essentielle de son œuvre tar
 dif à l’illustration des grands textes antiques\\, et L’Odyssée d’Homère 
 devient l’un de ses projets les plus ambitieux. À travers une suite de li
 thographies\\, il s’identifie profondément à Ulysse\\, héros errant et hu
 main\\, qui incarne à la fois la force et la vulnérabilité. Le travail de
  Kokoschka est bien plus qu’une simple illustration&nbsp\\;: il s’agit d’
 une exploration de la condition humaine...
URL:https://oneartyminute.com/expositions/lodyssee-de-kokoschka
STATUS:CONFIRMED
BEGIN:VALARM
TRIGGER:-PT1H
DESCRIPTION:Rappel : événement dans 1 heure
ACTION:DISPLAY
END:VALARM
END:VEVENT
END:VCALENDAR
