BEGIN:VCALENDAR
VERSION:2.0
PRODID:-//OneArtyMinute//Calendar Export//FR
CALSCALE:GREGORIAN
METHOD:PUBLISH
BEGIN:VEVENT
UID:vernissage-15775@oneartyminute.com
DTSTAMP:20260422T194930Z
DTSTART:20260723T140000Z
DTEND:20260723T160000Z
SUMMARY:Anniversarium Stress - Vernissage
LOCATION:MABA\\, 16 rue Charles VII\\, 94130 Nogent sur marne\\, FR
DESCRIPTION:Artistes :&nbsp\\;Sylvie Auvray\\, Claude Closky\\, Vincent Olinet\\, Céci
 le Paris\\, Emma Passera\\, Jean-Francois Peschot\\, Elisa Pône\\, Tony R
 egazzoni\\, Franck Scurti\\, Jeanne Susplugas\\, TurpentineCommissaire :C
 aroline Cournède&nbsp\\;L'exposition&nbsp\\;Anniversarium Stress\\,&nbsp\
 \;à travers des médiums multiples (dessin\\, peinture\\, vidéo\\, sculptu
 re\\, installation…)\\, traduit l’ambivalence de l’anniversaire entre joi
 e de la fête et mélancolie du temps qui passe. Réunissant une liste d’art
 istes in...
URL:https://oneartyminute.com/expositions/anniversarium-stress
STATUS:CONFIRMED
BEGIN:VALARM
TRIGGER:-PT1H
DESCRIPTION:Rappel : événement dans 1 heure
ACTION:DISPLAY
END:VALARM
END:VEVENT
END:VCALENDAR
