BEGIN:VCALENDAR
VERSION:2.0
PRODID:-//OneArtyMinute//Calendar Export//FR
CALSCALE:GREGORIAN
METHOD:PUBLISH
BEGIN:VEVENT
UID:vernissage-15776@oneartyminute.com
DTSTAMP:20260422T195007Z
DTSTART:20260430T140000Z
DTEND:20260430T160000Z
SUMMARY:Storia Dell'Arte Italiana - Vernissage
LOCATION:Galerie Modulab \\, 28 rue Mazelle\\, 57000 Metz\\, FR
DESCRIPTION:STORIA DELL’ARTE ITALIANAExposition personnelle de Gianpaolo Pagni&nbsp\\;
 En 2024\\, après avoir travaillé à partir de ses anciens manuels scolaire
 s — livres de biologie\\, de sténographie ou encore cahiers de mathématiq
 ues — Gianpaolo Pagni entreprend une nouvelle série intitulé Storia dell’
 arte Italiana en intervenant directement sur son propre manuel d’histoire
  de l’art italien de Giulio Carlo Argan\\, ouvrage emblématique qui a acc
 ompagné la formation de générations d’ét...
URL:https://oneartyminute.com/expositions/storia-dellarte-italiana
STATUS:CONFIRMED
BEGIN:VALARM
TRIGGER:-PT1H
DESCRIPTION:Rappel : événement dans 1 heure
ACTION:DISPLAY
END:VALARM
END:VEVENT
END:VCALENDAR
