BEGIN:VCALENDAR
VERSION:2.0
PRODID:-//OneArtyMinute//Calendar Export//FR
CALSCALE:GREGORIAN
METHOD:PUBLISH
BEGIN:VEVENT
UID:vernissage-15782@oneartyminute.com
DTSTAMP:20260422T195103Z
DTSTART:20260522T140000Z
DTEND:20260522T160000Z
SUMMARY:LYRIQUE - Vernissage
LOCATION:Les ateliers de juillet\\, 10 Rue Jean Macé\\, 75011 Paris\\, FR
DESCRIPTION:L’artiste présente un corpus d’œuvres issu d’une recherche continue autour
  de la figure humaine\\, de la mémoire narrative et du sacrifice symboliq
 ue. Conçue dans l’esprit du modello — étude préparatoire et forme évoluti
 ve — la Série Noire rassemble des relectures de contes de Hans Christian 
 Andersen ainsi que des comptines traditionnelles réécrites\\, réinvesties
  à travers des préoccupations contemporaines sociales et psychologiques.&
 nbsp\\;Les œuvres s’articulent autou...
URL:https://oneartyminute.com/expositions/lyrique-0
STATUS:CONFIRMED
BEGIN:VALARM
TRIGGER:-PT1H
DESCRIPTION:Rappel : événement dans 1 heure
ACTION:DISPLAY
END:VALARM
END:VEVENT
END:VCALENDAR
