BEGIN:VCALENDAR
VERSION:2.0
PRODID:-//OneArtyMinute//Calendar Export//FR
CALSCALE:GREGORIAN
METHOD:PUBLISH
BEGIN:VEVENT
UID:vernissage-15794@oneartyminute.com
DTSTAMP:20260422T195103Z
DTSTART:20260606T060000Z
DTEND:20260606T080000Z
SUMMARY:À Ciel Ouvert - Parcours d'art actuel - Vernissage
LOCATION:Ville de Riorges\\, Rue de Saint-André\\, Accès en face du parc Beaulieu\\
 , 42153 Riorges\\, FR
DESCRIPTION:À Ciel ouvert est un parcours d’art sensible et surprenant\\, en pleine na
 ture\\, proposant une balade au fil de 10 installations artistiques au cœ
 ur d’une zone naturelle protégée.&nbsp\\;La neuvième édition se tiendra d
 u 6 juin au 8 novembre 2026.&nbsp\\;Créée spécifiquement pour le site\\, 
 chaque installation est une invitation à poser un nouveau regard sur un p
 aysage du quotidien. Chacune des œuvres propose une nouvelle expérience s
 ensible.&nbsp\\;Toute la programmation est gratuite et...
URL:https://oneartyminute.com/expositions/ciel-ouvert-parcours-dart-actuel-0
STATUS:CONFIRMED
BEGIN:VALARM
TRIGGER:-PT1H
DESCRIPTION:Rappel : événement dans 1 heure
ACTION:DISPLAY
END:VALARM
END:VEVENT
END:VCALENDAR
