BEGIN:VCALENDAR
VERSION:2.0
PRODID:-//OneArtyMinute//Calendar Export//FR
CALSCALE:GREGORIAN
METHOD:PUBLISH
BEGIN:VEVENT
UID:vernissage-15800@oneartyminute.com
DTSTAMP:20260424T111625Z
DTSTART:20260425T100000Z
DTEND:20260425T120000Z
SUMMARY:The Big Wave - Vernissage
LOCATION:Casa de Cultura do Parque\\, Av. Prof. Fonseca Rodrigues\\, 1300 - Alto de
  Pinheiros São Paulo \\, 05461-010 São Paulo\\, BR
DESCRIPTION:By transforming the architecture of Casa de Cultura do Parque into the set
 ting of a fictional narrative\\, multimedia artist Raquel Garbelotti (São
  Paulo\\, 1973) and architect Murillo Paoli (Vitória\\, 1996) present a 3
 D video in which water invades and virtually submerges the building. With
  a critical text by Fernanda Pitta\\, The Big Wave constructs a situation
  that operates simultaneously as projection\\, warning\\, and investigati
 on.&nbsp\\;The technical tool of architectural modeling—used in the ...
URL:https://oneartyminute.com/expositions/big-wave
STATUS:CONFIRMED
BEGIN:VALARM
TRIGGER:-PT1H
DESCRIPTION:Rappel : événement dans 1 heure
ACTION:DISPLAY
END:VALARM
END:VEVENT
END:VCALENDAR
